BEGIN:VCALENDAR
VERSION:2.0
PRODID:-//Tukios.com/
BEGIN:VEVENT
UID:aec1e6df-a239-4bc4-956e-1a18deaf630c@www.hartensteincares.com
DTSTAMP:20260423T222204Z
DTSTART:20260425T170000Z
DTEND:20260425T180000Z
SUMMARY:Celebration of Life
DESCRIPTION:
URL:https://www.hartensteincares.com/obituaries/debra-meadowcroft
LOCATION:Parkton American Legion Post 256 19520 York Road  Parkton MD 
	21120
GEO:39.6625593;-76.6518792
END:VEVENT
END:VCALENDAR