BEGIN:VCALENDAR
VERSION:2.0
PRODID:-//Tukios.com/
BEGIN:VEVENT
UID:069cbb1d-644b-4f2d-9dae-1952d6d21e7f@www.hartensteincares.com
DTSTAMP:20260425T002333Z
DTSTART:20260509T170000Z
DTEND:20260509T180000Z
SUMMARY:Viewing
DESCRIPTION:
URL:https://www.hartensteincares.com/obituaries/kathleen-finley
LOCATION:Mt. Zion Baptist Church 48 Muddy Creek Forks Road  Brogue PA 
	17309
GEO:39.8690922;-76.4866125
END:VEVENT
END:VCALENDAR