BEGIN:VCALENDAR
VERSION:2.0
PRODID:-//Tukios.com/
BEGIN:VEVENT
UID:e4a1a011-fbd2-4ba3-b1e2-1f4dc37bfe59@www.hartensteincares.com
DTSTAMP:20260425T002503Z
DTSTART:20260509T180000Z
DTEND:20260509T190000Z
SUMMARY:Funeral Service
DESCRIPTION:
URL:https://www.hartensteincares.com/obituaries/kathleen-finley
LOCATION:Mt. Zion Baptist Church 48 Muddy Creek Forks Road  Brogue PA 
	17309
GEO:39.8690922;-76.4866125
END:VEVENT
END:VCALENDAR