BEGIN:VCALENDAR
VERSION:2.0
PRODID:-//Tukios.com/
BEGIN:VEVENT
UID:812db7a4-689a-4834-9f6f-81faa99c86e2@www.hartensteincares.com
DTSTAMP:20260425T002020Z
DTSTART:20260509T190000Z
DTEND:20260509T191500Z
SUMMARY:Burial
DESCRIPTION:
URL:https://www.hartensteincares.com/obituaries/kathleen-finley
LOCATION:    New Freedom PA 17349
GEO:39.7378811;-76.7013609
END:VEVENT
END:VCALENDAR