BEGIN:VCALENDAR
VERSION:2.0
PRODID:-//Tukios.com/
BEGIN:VEVENT
UID:586ba6bc-08c2-43f5-971d-22c14bed7fcd@www.hartensteincares.com
DTSTAMP:20260421T212825Z
DTSTART:20260425T150000Z
DTEND:20260425T180000Z
SUMMARY:Visitation
DESCRIPTION:
URL:https://www.hartensteincares.com/obituaries/ronald-evans
LOCATION:Hartenstein Funeral & Cremation Care, Inc. 24 North 2nd Street  
	New Freedom PA 17349
GEO:39.7398991;-76.7024901
END:VEVENT
END:VCALENDAR